Workbook
Name AnoCalendário: Janeiro!$AH$6
Name ChaveFérias: Janeiro!$C$4
Name ChaveLicençaMédica: Janeiro!$K$4
Name ChavePersonalizada1: Janeiro!$P$4
Name ChavePersonalizada2: Janeiro!$U$4
Name ChavePessoal: Janeiro!$G$4
Name Nome_da_chave: Janeiro!$B$4
Name NomeMês: Abril!$B$2
Name NomeMês: Agosto!$B$2
Name NomeMês: Dezembro!$B$2
Name NomeMês: Fevereiro!$B$2
Name NomeMês: Janeiro!$B$2
Name NomeMês: Julho!$B$2
Name NomeMês: Junho!$B$2
Name NomeMês: Maio!$B$4
Name NomeMês: Março!$B$2
Name NomeMês: Novembro!$B$2
Name NomeMês: Outubro!$B$2
Name NomeMês: Setembro!$B$2
Name RótuloChaveLicençaMédica: Janeiro!$L$4
Name RótulodeChavedeFérias: Janeiro!$D$4
Name RótulodeChavePersonalizada1: Janeiro!$Q$4
Name RótulodeChavePersonalizada2: Janeiro!$V$4
Name RótuloDeChavePessoal: Janeiro!$H$4
Name Título_de_Falta_do_Funcionário: Janeiro!$B$1
Name Título1: Janeiro[[#Headers],[Nome do funcionário]]
Name Título10: Outubro[[#Headers],[Nome do funcionário]]
Name Título11: Novembro[[#Headers],[Nome do funcionário]]
Name Título12: Dezembro[[#Headers],[Nome do funcionário]]
Name Título2: Fevereiro[[#Headers],[Nome do funcionário]]
Name Título3: Março[[#Headers],[Nome do funcionário]]
Name Título4: March5[[#Headers],[Nome do funcionário]]
Name Título5: March58[[#Headers],[Nome do funcionário]]
Name Título6: Junho[[#Headers],[Nome do funcionário]]
Name Título7: Julho[[#Headers],[Nome do funcionário]]
Name Título8: Agosto[[#Headers],[Nome do funcionário]]
Name Título9: Setembro[[#Headers],[Nome do funcionário]]
Name TítuloColuna13: NomeDoFuncionário[[#Headers],[Nomes dos Funcionários]]

Sheet Janeiro
B1: Lista de faltas de funcionários
B2: Janeiro
B4: Chave de tipo de falta | C4: F | D4: Férias | G4: P | H4: Pessoal | K4: L | L4: Licença médica | Q4: Personalizado 1 | V4: Personalizado 2
C6: Datas de falta | AH6: 2023
C7: =TEXT(WEEKDAY(DATE(AnoCalendário,1,1),1),"ddd") -> dom | D7: =TEXT(WEEKDAY(DATE(AnoCalendário,1,2),1),"ddd") -> seg | E7: =TEXT(WEEKDAY(DATE(AnoCalendário,1,3),1),"ddd") -> ter | F7: =TEXT(WEEKDAY(DATE(AnoCalendário,1,4),1),"ddd") -> qua | G7: =TEXT(WEEKDAY(DATE(AnoCalendário,1,5),1),"ddd") -> qui | H7: =TEXT(WEEKDAY(DATE(AnoCalendário,1,6),1),"ddd") -> sex | I7: =TEXT(WEEKDAY(DATE(AnoCalendário,1,7),1),"ddd") -> sáb | J7: =TEXT(WEEKDAY(DATE(AnoCalendário,1,8),1),"ddd") -> dom | K7: =TEXT(WEEKDAY(DATE(AnoCalendário,1,9),1),"ddd") -> seg | L7: =TEXT(WEEKDAY(DATE(AnoCalendário,1,10),1),"ddd") -> ter | M7: =TEXT(WEEKDAY(DATE(AnoCalendário,1,11),1),"ddd") -> qua | N7: =TEXT(WEEKDAY(DATE(AnoCalendário,1,12),1),"ddd") -> qui | O7: =TEXT(WEEKDAY(DATE(AnoCalendário,1,13),1),"ddd") -> sex | P7: =TEXT(WEEKDAY(DATE(AnoCalendário,1,14),1),"ddd") -> sáb | Q7: =TEXT(WEEKDAY(DATE(AnoCalendário,1,15),1),"ddd") -> dom | R7: =TEXT(WEEKDAY(DATE(AnoCalendário,1,16),1),"ddd") -> seg | S7: =TEXT(WEEKDAY(DATE(AnoCalendário,1,17),1),"ddd") -> ter | T7: =TEXT(WEEKDAY(DATE(AnoCalendário,1,18),1),"ddd") -> qua | U7: =TEXT(WEEKDAY(DATE(AnoCalendário,1,19),1),"ddd") -> qui | V7: =TEXT(WEEKDAY(DATE(AnoCalendário,1,20),1),"ddd") -> sex | W7: =TEXT(WEEKDAY(DATE(AnoCalendário,1,21),1),"ddd") -> sáb | X7: =TEXT(WEEKDAY(DATE(AnoCalendário,1,22),1),"ddd") -> dom | Y7: =TEXT(WEEKDAY(DATE(AnoCalendário,1,23),1),"ddd") -> seg | Z7: =TEXT(WEEKDAY(DATE(AnoCalendário,1,24),1),"ddd") -> ter | AA7: =TEXT(WEEKDAY(DATE(AnoCalendário,1,25),1),"ddd") -> qua | AB7: =TEXT(WEEKDAY(DATE(AnoCalendário,1,26),1),"ddd") -> qui | AC7: =TEXT(WEEKDAY(DATE(AnoCalendário,1,27),1),"ddd") -> sex | AD7: =TEXT(WEEKDAY(DATE(AnoCalendário,1,28),1),"ddd") -> sáb | AE7: =TEXT(WEEKDAY(DATE(AnoCalendário,1,29),1),"ddd") -> dom | AF7: =TEXT(WEEKDAY(DATE(AnoCalendário,1,30),1),"ddd") -> seg | AG7: =TEXT(WEEKDAY(DATE(AnoCalendário,1,31),1),"ddd") -> ter
B8: Nome do funcionário | C8: 1 | D8: 2 | E8: 3 | F8: 4 | G8: 5 | H8: 6 | I8: 7 | J8: 8 | K8: 9 | L8: 10 | M8: 11 | N8: 12 | O8: 13 | P8: 14 | Q8: 15 | R8: 16 | S8: 17 | T8: 18 | U8: 19 | V8: 20 | W8: 21 | X8: 22 | Y8: 23 | Z8: 24 | AA8: 25 | AB8: 26 | AC8: 27 | AD8: 28 | AE8: 29 | AF8: 30 | AG8: 31 | AH8: Total de dias
B9: Harsimran Brar | E9: F | F9: F | G9: F | H9: F | O9: F | AH9: =COUNTA(Janeiro!$C9:$AG9) -> 5
B10: Ricardo Cavalcanti | G10: L | H10: L | M10: P | V10: L | AA10: F | AB10: F | AC10: F | AH10: =COUNTA(Janeiro!$C10:$AG10) -> 7
B11: Asaf Karten | E11: P | P11: L | AE11: L | AH11: =COUNTA(Janeiro!$C11:$AG11) -> 3
B12: Marina Azevedo | I12: P | U12: F | V12: F | W12: F | AH12: =COUNTA(Janeiro!$C12:$AG12) -> 4
B13: Madison Butler | F13: L | G13: F | H13: F | S13: L | Z13: L | AG13: V | AH13: =COUNTA(Janeiro!$C13:$AG13) -> 6
B14: =NomeMês&" total" -> Janeiro total | C14: =SUBTOTAL(103,Janeiro!$C$9:$C$13) -> 0 | D14: =SUBTOTAL(103,Janeiro!$D$9:$D$13) -> 0 | E14: =SUBTOTAL(103,Janeiro!$E$9:$E$13) -> 2 | F14: =SUBTOTAL(103,Janeiro!$F$9:$F$13) -> 2 | G14: =SUBTOTAL(103,Janeiro!$G$9:$G$13) -> 3 | H14: =SUBTOTAL(103,Janeiro!$H$9:$H$13) -> 3 | I14: =SUBTOTAL(103,Janeiro!$I$9:$I$13) -> 1 | J14: =SUBTOTAL(103,Janeiro!$J$9:$J$13) -> 0 | K14: =SUBTOTAL(103,Janeiro!$K$9:$K$13) -> 0 | L14: =SUBTOTAL(103,Janeiro!$L$9:$L$13) -> 0 | M14: =SUBTOTAL(103,Janeiro!$M$9:$M$13) -> 1 | N14: =SUBTOTAL(103,Janeiro!$N$9:$N$13) -> 0 | O14: =SUBTOTAL(103,Janeiro!$O$9:$O$13) -> 1 | P14: =SUBTOTAL(103,Janeiro!$P$9:$P$13) -> 1 | Q14: =SUBTOTAL(103,Janeiro!$Q$9:$Q$13) -> 0 | R14: =SUBTOTAL(103,Janeiro!$R$9:$R$13) -> 0 | S14: =SUBTOTAL(103,Janeiro!$S$9:$S$13) -> 1 | T14: =SUBTOTAL(103,Janeiro!$T$9:$T$13) -> 0 | U14: =SUBTOTAL(103,Janeiro!$U$9:$U$13) -> 1 | V14: =SUBTOTAL(103,Janeiro!$V$9:$V$13) -> 2 | W14: =SUBTOTAL(103,Janeiro!$W$9:$W$13) -> 1 | X14: =SUBTOTAL(103,Janeiro!$X$9:$X$13) -> 0 | Y14: =SUBTOTAL(103,Janeiro!$Y$9:$Y$13) -> 0 | Z14: =SUBTOTAL(103,Janeiro!$Z$9:$Z$13) -> 1 | AA14: =SUBTOTAL(103,Janeiro!$AA$9:$AA$13) -> 1 | AB14: =SUBTOTAL(103,Janeiro!$AB$9:$AB$13) -> 1 | AC14: =SUBTOTAL(103,Janeiro!$AC$9:$AC$13) -> 1 | AD14: =SUBTOTAL(103,Janeiro!$AD$9:$AD$13) -> 0 | AE14: =SUBTOTAL(103,Janeiro!$AE$9:$AE$13) -> 1 | AF14: =SUBTOTAL(103,Janeiro!$AF$9:$AF$13) -> 0 | AG14: =SUBTOTAL(103,Janeiro!$AG$9:$AG$13) -> 1 | AH14: =SUBTOTAL(109,Janeiro[Total de dias]) -> 25

Sheet Fevereiro
B1: Lista de faltas de funcionários
B2: Fevereiro
B4: Chave de tipo de falta | C4: F | D4: Férias | G4: P | H4: Pessoal | K4: L | L4: Licença médica | Q4: Personalizado 1 | V4: Personalizado 2
C6: Datas de falta | AH6: =AnoCalendário -> 2023
C7: =TEXT(WEEKDAY(DATE(AnoCalendário,2,1),1),"ddd") -> qua | D7: =TEXT(WEEKDAY(DATE(AnoCalendário,2,2),1),"ddd") -> qui | E7: =TEXT(WEEKDAY(DATE(AnoCalendário,2,3),1),"ddd") -> sex | F7: =TEXT(WEEKDAY(DATE(AnoCalendário,2,4),1),"ddd") -> sáb | G7: =TEXT(WEEKDAY(DATE(AnoCalendário,2,5),1),"ddd") -> dom | H7: =TEXT(WEEKDAY(DATE(AnoCalendário,2,6),1),"ddd") -> seg | I7: =TEXT(WEEKDAY(DATE(AnoCalendário,2,7),1),"ddd") -> ter | J7: =TEXT(WEEKDAY(DATE(AnoCalendário,2,8),1),"ddd") -> qua | K7: =TEXT(WEEKDAY(DATE(AnoCalendário,2,9),1),"ddd") -> qui | L7: =TEXT(WEEKDAY(DATE(AnoCalendário,2,10),1),"ddd") -> sex | M7: =TEXT(WEEKDAY(DATE(AnoCalendário,2,11),1),"ddd") -> sáb | N7: =TEXT(WEEKDAY(DATE(AnoCalendário,2,12),1),"ddd") -> dom | O7: =TEXT(WEEKDAY(DATE(AnoCalendário,2,13),1),"ddd") -> seg | P7: =TEXT(WEEKDAY(DATE(AnoCalendário,2,14),1),"ddd") -> ter | Q7: =TEXT(WEEKDAY(DATE(AnoCalendário,2,15),1),"ddd") -> qua | R7: =TEXT(WEEKDAY(DATE(AnoCalendário,2,16),1),"ddd") -> qui | S7: =TEXT(WEEKDAY(DATE(AnoCalendário,2,17),1),"ddd") -> sex | T7: =TEXT(WEEKDAY(DATE(AnoCalendário,2,18),1),"ddd") -> sáb | U7: =TEXT(WEEKDAY(DATE(AnoCalendário,2,19),1),"ddd") -> dom | V7: =TEXT(WEEKDAY(DATE(AnoCalendário,2,20),1),"ddd") -> seg | W7: =TEXT(WEEKDAY(DATE(AnoCalendário,2,21),1),"ddd") -> ter | X7: =TEXT(WEEKDAY(DATE(AnoCalendário,2,22),1),"ddd") -> qua | Y7: =TEXT(WEEKDAY(DATE(AnoCalendário,2,23),1),"ddd") -> qui | Z7: =TEXT(WEEKDAY(DATE(AnoCalendário,2,24),1),"ddd") -> sex | AA7: =TEXT(WEEKDAY(DATE(AnoCalendário,2,25),1),"ddd") -> sáb | AB7: =TEXT(WEEKDAY(DATE(AnoCalendário,2,26),1),"ddd") -> dom | AC7: =TEXT(WEEKDAY(DATE(AnoCalendário,2,27),1),"ddd") -> seg | AD7: =TEXT(WEEKDAY(DATE(AnoCalendário,2,28),1),"ddd") -> ter | AE7: =TEXT(WEEKDAY(DATE(AnoCalendário,2,29),1),"ddd") -> qua
B8: Nome do funcionário | C8: 1 | D8: 2 | E8: 3 | F8: 4 | G8: 5 | H8: 6 | I8: 7 | J8: 8 | K8: 9 | L8: 10 | M8: 11 | N8: 12 | O8: 13 | P8: 14 | Q8: 15 | R8: 16 | S8: 17 | T8: 18 | U8: 19 | V8: 20 | W8: 21 | X8: 22 | Y8: 23 | Z8: 24 | AA8: 25 | AB8: 26 | AC8: 27 | AD8: 28 | AE8: 29 | AH8: Total de dias
B9: Harsimran Brar | E9: F | F9: F | G9: F | H9: F | O9: F | AH9: =COUNTA(Fevereiro[[#This Row],[1]:[29]]) -> 5
B10: Ricardo Cavalcanti | G10: L | H10: L | M10: P | V10: L | AA10: F | AB10: F | AC10: F | AH10: =COUNTA(Fevereiro[[#This Row],[1]:[29]]) -> 7
B11: Asaf Karten | AH11: =COUNTA(Fevereiro[[#This Row],[1]:[29]]) -> 0
B12: Marina Azevedo | E12: L | P12: L | T12: P | AD12: L | AH12: =COUNTA(Fevereiro[[#This Row],[1]:[29]]) -> 4
B13: Madison Butler | J13: F | K13: F | L13: F | M13: F | Z13: L | AH13: =COUNTA(Fevereiro[[#This Row],[1]:[29]]) -> 5
B14: =NomeMês&" total" -> Fevereiro total | C14: =SUBTOTAL(103,Fevereiro[1]) -> 0 | D14: =SUBTOTAL(103,Fevereiro[2]) -> 0 | E14: =SUBTOTAL(103,Fevereiro[3]) -> 2 | F14: =SUBTOTAL(103,Fevereiro[4]) -> 1 | G14: =SUBTOTAL(103,Fevereiro[5]) -> 2 | H14: =SUBTOTAL(103,Fevereiro[6]) -> 2 | I14: =SUBTOTAL(103,Fevereiro[7]) -> 0 | J14: =SUBTOTAL(103,Fevereiro[8]) -> 1 | K14: =SUBTOTAL(103,Fevereiro[9]) -> 1 | L14: =SUBTOTAL(103,Fevereiro[10]) -> 1 | M14: =SUBTOTAL(103,Fevereiro[11]) -> 2 | N14: =SUBTOTAL(103,Fevereiro[12]) -> 0 | O14: =SUBTOTAL(103,Fevereiro[13]) -> 1 | P14: =SUBTOTAL(103,Fevereiro[14]) -> 1 | Q14: =SUBTOTAL(103,Fevereiro[15]) -> 0 | R14: =SUBTOTAL(103,Fevereiro[16]) -> 0 | S14: =SUBTOTAL(103,Fevereiro[17]) -> 0 | T14: =SUBTOTAL(103,Fevereiro[18]) -> 1 | U14: =SUBTOTAL(103,Fevereiro[19]) -> 0 | V14: =SUBTOTAL(103,Fevereiro[20]) -> 1 | W14: =SUBTOTAL(103,Fevereiro[21]) -> 0 | X14: =SUBTOTAL(103,Fevereiro[22]) -> 0 | Y14: =SUBTOTAL(103,Fevereiro[23]) -> 0 | Z14: =SUBTOTAL(103,Fevereiro[24]) -> 1 | AA14: =SUBTOTAL(103,Fevereiro[25]) -> 1 | AB14: =SUBTOTAL(103,Fevereiro[26]) -> 1 | AC14: =SUBTOTAL(103,Fevereiro[27]) -> 1 | AD14: =SUBTOTAL(103,Fevereiro[28]) -> 1 | AE14: =SUBTOTAL(103,Fevereiro[29]) -> 0 | AH14: =SUBTOTAL(109,Fevereiro[Total de dias]) -> 21

Sheet Março
B1: Lista de faltas de funcionários
B2: Março
B4: Chave de tipo de falta | C4: F | D4: Férias | G4: P | H4: Pessoal | K4: L | L4: Licença médica | Q4: Personalizado 1 | V4: Personalizado 2
C6: Datas de falta | AH6: =AnoCalendário -> 2023
C7: =TEXT(WEEKDAY(DATE(AnoCalendário,3,1),1),"ddd") -> qua | D7: =TEXT(WEEKDAY(DATE(AnoCalendário,3,2),1),"ddd") -> qui | E7: =TEXT(WEEKDAY(DATE(AnoCalendário,3,3),1),"ddd") -> sex | F7: =TEXT(WEEKDAY(DATE(AnoCalendário,3,4),1),"ddd") -> sáb | G7: =TEXT(WEEKDAY(DATE(AnoCalendário,3,5),1),"ddd") -> dom | H7: =TEXT(WEEKDAY(DATE(AnoCalendário,3,6),1),"ddd") -> seg | I7: =TEXT(WEEKDAY(DATE(AnoCalendário,3,7),1),"ddd") -> ter | J7: =TEXT(WEEKDAY(DATE(AnoCalendário,3,8),1),"ddd") -> qua | K7: =TEXT(WEEKDAY(DATE(AnoCalendário,3,9),1),"ddd") -> qui | L7: =TEXT(WEEKDAY(DATE(AnoCalendário,3,10),1),"ddd") -> sex | M7: =TEXT(WEEKDAY(DATE(AnoCalendário,3,11),1),"ddd") -> sáb | N7: =TEXT(WEEKDAY(DATE(AnoCalendário,3,12),1),"ddd") -> dom | O7: =TEXT(WEEKDAY(DATE(AnoCalendário,3,13),1),"ddd") -> seg | P7: =TEXT(WEEKDAY(DATE(AnoCalendário,3,14),1),"ddd") -> ter | Q7: =TEXT(WEEKDAY(DATE(AnoCalendário,3,15),1),"ddd") -> qua | R7: =TEXT(WEEKDAY(DATE(AnoCalendário,3,16),1),"ddd") -> qui | S7: =TEXT(WEEKDAY(DATE(AnoCalendário,3,17),1),"ddd") -> sex | T7: =TEXT(WEEKDAY(DATE(AnoCalendário,3,18),1),"ddd") -> sáb | U7: =TEXT(WEEKDAY(DATE(AnoCalendário,3,19),1),"ddd") -> dom | V7: =TEXT(WEEKDAY(DATE(AnoCalendário,3,20),1),"ddd") -> seg | W7: =TEXT(WEEKDAY(DATE(AnoCalendário,3,21),1),"ddd") -> ter | X7: =TEXT(WEEKDAY(DATE(AnoCalendário,3,22),1),"ddd") -> qua | Y7: =TEXT(WEEKDAY(DATE(AnoCalendário,3,23),1),"ddd") -> qui | Z7: =TEXT(WEEKDAY(DATE(AnoCalendário,3,24),1),"ddd") -> sex | AA7: =TEXT(WEEKDAY(DATE(AnoCalendário,3,25),1),"ddd") -> sáb | AB7: =TEXT(WEEKDAY(DATE(AnoCalendário,3,26),1),"ddd") -> dom | AC7: =TEXT(WEEKDAY(DATE(AnoCalendário,3,27),1),"ddd") -> seg | AD7: =TEXT(WEEKDAY(DATE(AnoCalendário,3,28),1),"ddd") -> ter | AE7: =TEXT(WEEKDAY(DATE(AnoCalendário,3,29),1),"ddd") -> qua | AF7: =TEXT(WEEKDAY(DATE(AnoCalendário,3,30),1),"ddd") -> qui | AG7: =TEXT(WEEKDAY(DATE(AnoCalendário,3,31),1),"ddd") -> sex
B8: Nome do funcionário | C8: 1 | D8: 2 | E8: 3 | F8: 4 | G8: 5 | H8: 6 | I8: 7 | J8: 8 | K8: 9 | L8: 10 | M8: 11 | N8: 12 | O8: 13 | P8: 14 | Q8: 15 | R8: 16 | S8: 17 | T8: 18 | U8: 19 | V8: 20 | W8: 21 | X8: 22 | Y8: 23 | Z8: 24 | AA8: 25 | AB8: 26 | AC8: 27 | AD8: 28 | AE8: 29 | AF8: 30 | AG8: 31 | AH8: Total de dias
B9: Harsimran Brar | AH9: =COUNTA(Março[[#This Row],[1]:[31]]) -> 0
B10: Ricardo Cavalcanti | AH10: =COUNTA(Março[[#This Row],[1]:[31]]) -> 0
B11: Asaf Karten | AH11: =COUNTA(Março[[#This Row],[1]:[31]]) -> 0
B12: Marina Azevedo | AH12: =COUNTA(Março[[#This Row],[1]:[31]]) -> 0
B13: Madison Butler | AH13: =COUNTA(Março[[#This Row],[1]:[31]]) -> 0
B14: =NomeMês&" Total" -> Março Total | C14: =SUBTOTAL(103,Março[1]) -> 0 | D14: =SUBTOTAL(103,Março[2]) -> 0 | E14: =SUBTOTAL(103,Março[3]) -> 0 | F14: =SUBTOTAL(103,Março[4]) -> 0 | G14: =SUBTOTAL(103,Março[5]) -> 0 | H14: =SUBTOTAL(103,Março[6]) -> 0 | I14: =SUBTOTAL(103,Março[7]) -> 0 | J14: =SUBTOTAL(103,Março[8]) -> 0 | K14: =SUBTOTAL(103,Março[9]) -> 0 | L14: =SUBTOTAL(103,Março[10]) -> 0 | M14: =SUBTOTAL(103,Março[11]) -> 0 | N14: =SUBTOTAL(103,Março[12]) -> 0 | O14: =SUBTOTAL(103,Março[13]) -> 0 | P14: =SUBTOTAL(103,Março[14]) -> 0 | Q14: =SUBTOTAL(103,Março[15]) -> 0 | R14: =SUBTOTAL(103,Março[16]) -> 0 | S14: =SUBTOTAL(103,Março[17]) -> 0 | T14: =SUBTOTAL(103,Março[18]) -> 0 | U14: =SUBTOTAL(103,Março[19]) -> 0 | V14: =SUBTOTAL(103,Março[20]) -> 0 | W14: =SUBTOTAL(103,Março[21]) -> 0 | X14: =SUBTOTAL(103,Março[22]) -> 0 | Y14: =SUBTOTAL(103,Março[23]) -> 0 | Z14: =SUBTOTAL(103,Março[24]) -> 0 | AA14: =SUBTOTAL(103,Março[25]) -> 0 | AB14: =SUBTOTAL(103,Março[26]) -> 0 | AC14: =SUBTOTAL(103,Março[27]) -> 0 | AD14: =SUBTOTAL(103,Março[28]) -> 0 | AE14: =SUBTOTAL(103,Março[29]) -> 0 | AF14: =SUBTOTAL(109,Março[30]) -> 0 | AG14: =SUBTOTAL(109,Março[31]) -> 0 | AH14: =SUBTOTAL(109,Março[Total de dias]) -> 0

Sheet Abril
B1: Lista de faltas de funcionários
B2: Abril
B4: Chave de tipo de falta | C4: F | D4: Férias | G4: P | H4: Pessoal | K4: L | L4: Licença médica | Q4: Personalizado 1 | V4: Personalizado 2
C6: Datas de falta | AH6: =AnoCalendário -> 2023
C7: =TEXT(WEEKDAY(DATE(AnoCalendário,4,1),1),"ddd") -> sáb | D7: =TEXT(WEEKDAY(DATE(AnoCalendário,4,2),1),"ddd") -> dom | E7: =TEXT(WEEKDAY(DATE(AnoCalendário,4,3),1),"ddd") -> seg | F7: =TEXT(WEEKDAY(DATE(AnoCalendário,4,4),1),"ddd") -> ter | G7: =TEXT(WEEKDAY(DATE(AnoCalendário,4,5),1),"ddd") -> qua | H7: =TEXT(WEEKDAY(DATE(AnoCalendário,4,6),1),"ddd") -> qui | I7: =TEXT(WEEKDAY(DATE(AnoCalendário,4,7),1),"ddd") -> sex | J7: =TEXT(WEEKDAY(DATE(AnoCalendário,4,8),1),"ddd") -> sáb | K7: =TEXT(WEEKDAY(DATE(AnoCalendário,4,9),1),"ddd") -> dom | L7: =TEXT(WEEKDAY(DATE(AnoCalendário,4,10),1),"ddd") -> seg | M7: =TEXT(WEEKDAY(DATE(AnoCalendário,4,11),1),"ddd") -> ter | N7: =TEXT(WEEKDAY(DATE(AnoCalendário,4,12),1),"ddd") -> qua | O7: =TEXT(WEEKDAY(DATE(AnoCalendário,4,13),1),"ddd") -> qui | P7: =TEXT(WEEKDAY(DATE(AnoCalendário,4,14),1),"ddd") -> sex | Q7: =TEXT(WEEKDAY(DATE(AnoCalendário,4,15),1),"ddd") -> sáb | R7: =TEXT(WEEKDAY(DATE(AnoCalendário,4,16),1),"ddd") -> dom | S7: =TEXT(WEEKDAY(DATE(AnoCalendário,4,17),1),"ddd") -> seg | T7: =TEXT(WEEKDAY(DATE(AnoCalendário,4,18),1),"ddd") -> ter | U7: =TEXT(WEEKDAY(DATE(AnoCalendário,4,19),1),"ddd") -> qua | V7: =TEXT(WEEKDAY(DATE(AnoCalendário,4,20),1),"ddd") -> qui | W7: =TEXT(WEEKDAY(DATE(AnoCalendário,4,21),1),"ddd") -> sex | X7: =TEXT(WEEKDAY(DATE(AnoCalendário,4,22),1),"ddd") -> sáb | Y7: =TEXT(WEEKDAY(DATE(AnoCalendário,4,23),1),"ddd") -> dom | Z7: =TEXT(WEEKDAY(DATE(AnoCalendário,4,24),1),"ddd") -> seg | AA7: =TEXT(WEEKDAY(DATE(AnoCalendário,4,25),1),"ddd") -> ter | AB7: =TEXT(WEEKDAY(DATE(AnoCalendário,4,26),1),"ddd") -> qua | AC7: =TEXT(WEEKDAY(DATE(AnoCalendário,4,27),1),"ddd") -> qui | AD7: =TEXT(WEEKDAY(DATE(AnoCalendário,4,28),1),"ddd") -> sex | AE7: =TEXT(WEEKDAY(DATE(AnoCalendário,4,29),1),"ddd") -> sáb | AF7: =TEXT(WEEKDAY(DATE(AnoCalendário,4,30),1),"ddd") -> dom
B8: Nome do funcionário | C8: 1 | D8: 2 | E8: 3 | F8: 4 | G8: 5 | H8: 6 | I8: 7 | J8: 8 | K8: 9 | L8: 10 | M8: 11 | N8: 12 | O8: 13 | P8: 14 | Q8: 15 | R8: 16 | S8: 17 | T8: 18 | U8: 19 | V8: 20 | W8: 21 | X8: 22 | Y8: 23 | Z8: 24 | AA8: 25 | AB8: 26 | AC8: 27 | AD8: 28 | AE8: 29 | AF8: 30 | AH8: Total de dias
B9: Harsimran Brar | AH9: =COUNTA(March5[[#This Row],[1]:[ ]]) -> 0
B10: Ricardo Cavalcanti | AH10: =COUNTA(March5[[#This Row],[1]:[ ]]) -> 0
B11: Asaf Karten | AH11: =COUNTA(March5[[#This Row],[1]:[ ]]) -> 0
B12: Marina Azevedo | AH12: =COUNTA(March5[[#This Row],[1]:[ ]]) -> 0
B13: Madison Butler | AH13: =COUNTA(March5[[#This Row],[1]:[ ]]) -> 0
B14: =NomeMês&" Total" -> Abril Total | C14: =SUBTOTAL(103,March5[1]) -> 0 | D14: =SUBTOTAL(103,March5[2]) -> 0 | E14: =SUBTOTAL(103,March5[3]) -> 0 | F14: =SUBTOTAL(103,March5[4]) -> 0 | G14: =SUBTOTAL(103,March5[5]) -> 0 | H14: =SUBTOTAL(103,March5[6]) -> 0 | I14: =SUBTOTAL(103,March5[7]) -> 0 | J14: =SUBTOTAL(103,March5[8]) -> 0 | K14: =SUBTOTAL(103,March5[9]) -> 0 | L14: =SUBTOTAL(103,March5[10]) -> 0 | M14: =SUBTOTAL(103,March5[11]) -> 0 | N14: =SUBTOTAL(103,March5[12]) -> 0 | O14: =SUBTOTAL(103,March5[13]) -> 0 | P14: =SUBTOTAL(103,March5[14]) -> 0 | Q14: =SUBTOTAL(103,March5[15]) -> 0 | R14: =SUBTOTAL(103,March5[16]) -> 0 | S14: =SUBTOTAL(103,March5[17]) -> 0 | T14: =SUBTOTAL(103,March5[18]) -> 0 | U14: =SUBTOTAL(103,March5[19]) -> 0 | V14: =SUBTOTAL(103,March5[20]) -> 0 | W14: =SUBTOTAL(103,March5[21]) -> 0 | X14: =SUBTOTAL(103,March5[22]) -> 0 | Y14: =SUBTOTAL(103,March5[23]) -> 0 | Z14: =SUBTOTAL(103,March5[24]) -> 0 | AA14: =SUBTOTAL(103,March5[25]) -> 0 | AB14: =SUBTOTAL(103,March5[26]) -> 0 | AC14: =SUBTOTAL(103,March5[27]) -> 0 | AD14: =SUBTOTAL(103,March5[28]) -> 0 | AE14: =SUBTOTAL(103,March5[29]) -> 0 | AF14: =SUBTOTAL(109,March5[30]) -> 0 | AG14: =SUBTOTAL(109,March5[[ ]]) -> 0 | AH14: =SUBTOTAL(109,March5[Total de dias]) -> 0

Sheet Maio
B1: Lista de faltas de funcionários
B2: Maio
B4: Chave de tipo de falta | C4: F | D4: Férias | G4: P | H4: Pessoal | K4: L | L4: Licença médica | Q4: Personalizado 1 | V4: Personalizado 2
C6: Datas de falta | AH6: =AnoCalendário -> 2023
C7: =TEXT(WEEKDAY(DATE(AnoCalendário,5,1),1),"ddd") -> seg | D7: =TEXT(WEEKDAY(DATE(AnoCalendário,5,2),1),"ddd") -> ter | E7: =TEXT(WEEKDAY(DATE(AnoCalendário,5,3),1),"ddd") -> qua | F7: =TEXT(WEEKDAY(DATE(AnoCalendário,5,4),1),"ddd") -> qui | G7: =TEXT(WEEKDAY(DATE(AnoCalendário,5,5),1),"ddd") -> sex | H7: =TEXT(WEEKDAY(DATE(AnoCalendário,5,6),1),"ddd") -> sáb | I7: =TEXT(WEEKDAY(DATE(AnoCalendário,5,7),1),"ddd") -> dom | J7: =TEXT(WEEKDAY(DATE(AnoCalendário,5,8),1),"ddd") -> seg | K7: =TEXT(WEEKDAY(DATE(AnoCalendário,5,9),1),"ddd") -> ter | L7: =TEXT(WEEKDAY(DATE(AnoCalendário,5,10),1),"ddd") -> qua | M7: =TEXT(WEEKDAY(DATE(AnoCalendário,5,11),1),"ddd") -> qui | N7: =TEXT(WEEKDAY(DATE(AnoCalendário,5,12),1),"ddd") -> sex | O7: =TEXT(WEEKDAY(DATE(AnoCalendário,5,13),1),"ddd") -> sáb | P7: =TEXT(WEEKDAY(DATE(AnoCalendário,5,14),1),"ddd") -> dom | Q7: =TEXT(WEEKDAY(DATE(AnoCalendário,5,15),1),"ddd") -> seg | R7: =TEXT(WEEKDAY(DATE(AnoCalendário,5,16),1),"ddd") -> ter | S7: =TEXT(WEEKDAY(DATE(AnoCalendário,5,17),1),"ddd") -> qua | T7: =TEXT(WEEKDAY(DATE(AnoCalendário,5,18),1),"ddd") -> qui | U7: =TEXT(WEEKDAY(DATE(AnoCalendário,5,19),1),"ddd") -> sex | V7: =TEXT(WEEKDAY(DATE(AnoCalendário,5,20),1),"ddd") -> sáb | W7: =TEXT(WEEKDAY(DATE(AnoCalendário,5,21),1),"ddd") -> dom | X7: =TEXT(WEEKDAY(DATE(AnoCalendário,5,22),1),"ddd") -> seg | Y7: =TEXT(WEEKDAY(DATE(AnoCalendário,5,23),1),"ddd") -> ter | Z7: =TEXT(WEEKDAY(DATE(AnoCalendário,5,24),1),"ddd") -> qua | AA7: =TEXT(WEEKDAY(DATE(AnoCalendário,5,25),1),"ddd") -> qui | AB7: =TEXT(WEEKDAY(DATE(AnoCalendário,5,26),1),"ddd") -> sex | AC7: =TEXT(WEEKDAY(DATE(AnoCalendário,5,27),1),"ddd") -> sáb | AD7: =TEXT(WEEKDAY(DATE(AnoCalendário,5,28),1),"ddd") -> dom | AE7: =TEXT(WEEKDAY(DATE(AnoCalendário,5,29),1),"ddd") -> seg | AF7: =TEXT(WEEKDAY(DATE(AnoCalendário,5,30),1),"ddd") -> ter | AG7: =TEXT(WEEKDAY(DATE(AnoCalendário,5,31),1),"ddd") -> qua
B8: Nome do funcionário | C8: 1 | D8: 2 | E8: 3 | F8: 4 | G8: 5 | H8: 6 | I8: 7 | J8: 8 | K8: 9 | L8: 10 | M8: 11 | N8: 12 | O8: 13 | P8: 14 | Q8: 15 | R8: 16 | S8: 17 | T8: 18 | U8: 19 | V8: 20 | W8: 21 | X8: 22 | Y8: 23 | Z8: 24 | AA8: 25 | AB8: 26 | AC8: 27 | AD8: 28 | AE8: 29 | AF8: 30 | AG8: 31 | AH8: Total de dias
B9: Harsimran Brar | AH9: =COUNTA(March58[[#This Row],[1]:[31]]) -> 0
B10: Ricardo Cavalcanti | AH10: =COUNTA(March58[[#This Row],[1]:[31]]) -> 0
B11: Asaf Karten | AH11: =COUNTA(March58[[#This Row],[1]:[31]]) -> 0
B12: Marina Azevedo | AH12: =COUNTA(March58[[#This Row],[1]:[31]]) -> 0
B13: Madison Butler | AH13: =COUNTA(March58[[#This Row],[1]:[31]]) -> 0
B14: =NomeMês&" Total" -> Chave de tipo de falta Total | C14: =SUBTOTAL(103,March58[1]) -> 0 | D14: =SUBTOTAL(103,March58[2]) -> 0 | E14: =SUBTOTAL(103,March58[3]) -> 0 | F14: =SUBTOTAL(103,March58[4]) -> 0 | G14: =SUBTOTAL(103,March58[5]) -> 0 | H14: =SUBTOTAL(103,March58[6]) -> 0 | I14: =SUBTOTAL(103,March58[7]) -> 0 | J14: =SUBTOTAL(103,March58[8]) -> 0 | K14: =SUBTOTAL(103,March58[9]) -> 0 | L14: =SUBTOTAL(103,March58[10]) -> 0 | M14: =SUBTOTAL(103,March58[11]) -> 0 | N14: =SUBTOTAL(103,March58[12]) -> 0 | O14: =SUBTOTAL(103,March58[13]) -> 0 | P14: =SUBTOTAL(103,March58[14]) -> 0 | Q14: =SUBTOTAL(103,March58[15]) -> 0 | R14: =SUBTOTAL(103,March58[16]) -> 0 | S14: =SUBTOTAL(103,March58[17]) -> 0 | T14: =SUBTOTAL(103,March58[18]) -> 0 | U14: =SUBTOTAL(103,March58[19]) -> 0 | V14: =SUBTOTAL(103,March58[20]) -> 0 | W14: =SUBTOTAL(103,March58[21]) -> 0 | X14: =SUBTOTAL(103,March58[22]) -> 0 | Y14: =SUBTOTAL(103,March58[23]) -> 0 | Z14: =SUBTOTAL(103,March58[24]) -> 0 | AA14: =SUBTOTAL(103,March58[25]) -> 0 | AB14: =SUBTOTAL(103,March58[26]) -> 0 | AC14: =SUBTOTAL(103,March58[27]) -> 0 | AD14: =SUBTOTAL(103,March58[28]) -> 0 | AE14: =SUBTOTAL(103,March58[29]) -> 0 | AF14: =SUBTOTAL(109,March58[30]) -> 0 | AG14: =SUBTOTAL(109,March58[31]) -> 0 | AH14: =SUBTOTAL(109,March58[Total de dias]) -> 0

Sheet Junho
B1: Lista de faltas de funcionários
B2: Junho
B4: Chave de tipo de falta | C4: F | D4: Férias | G4: P | H4: Pessoal | K4: L | L4: Licença médica | Q4: Personalizado 1 | V4: Personalizado 2
C6: Datas de falta | AH6: =AnoCalendário -> 2023
C7: =TEXT(WEEKDAY(DATE(AnoCalendário,6,1),1),"ddd") -> qui | D7: =TEXT(WEEKDAY(DATE(AnoCalendário,6,2),1),"ddd") -> sex | E7: =TEXT(WEEKDAY(DATE(AnoCalendário,6,3),1),"ddd") -> sáb | F7: =TEXT(WEEKDAY(DATE(AnoCalendário,6,4),1),"ddd") -> dom | G7: =TEXT(WEEKDAY(DATE(AnoCalendário,6,5),1),"ddd") -> seg | H7: =TEXT(WEEKDAY(DATE(AnoCalendário,6,6),1),"ddd") -> ter | I7: =TEXT(WEEKDAY(DATE(AnoCalendário,6,7),1),"ddd") -> qua | J7: =TEXT(WEEKDAY(DATE(AnoCalendário,6,8),1),"ddd") -> qui | K7: =TEXT(WEEKDAY(DATE(AnoCalendário,6,9),1),"ddd") -> sex | L7: =TEXT(WEEKDAY(DATE(AnoCalendário,6,10),1),"ddd") -> sáb | M7: =TEXT(WEEKDAY(DATE(AnoCalendário,6,11),1),"ddd") -> dom | N7: =TEXT(WEEKDAY(DATE(AnoCalendário,6,12),1),"ddd") -> seg | O7: =TEXT(WEEKDAY(DATE(AnoCalendário,6,13),1),"ddd") -> ter | P7: =TEXT(WEEKDAY(DATE(AnoCalendário,6,14),1),"ddd") -> qua | Q7: =TEXT(WEEKDAY(DATE(AnoCalendário,6,15),1),"ddd") -> qui | R7: =TEXT(WEEKDAY(DATE(AnoCalendário,6,16),1),"ddd") -> sex | S7: =TEXT(WEEKDAY(DATE(AnoCalendário,6,17),1),"ddd") -> sáb | T7: =TEXT(WEEKDAY(DATE(AnoCalendário,6,18),1),"ddd") -> dom | U7: =TEXT(WEEKDAY(DATE(AnoCalendário,6,19),1),"ddd") -> seg | V7: =TEXT(WEEKDAY(DATE(AnoCalendário,6,20),1),"ddd") -> ter | W7: =TEXT(WEEKDAY(DATE(AnoCalendário,6,21),1),"ddd") -> qua | X7: =TEXT(WEEKDAY(DATE(AnoCalendário,6,22),1),"ddd") -> qui | Y7: =TEXT(WEEKDAY(DATE(AnoCalendário,6,23),1),"ddd") -> sex | Z7: =TEXT(WEEKDAY(DATE(AnoCalendário,6,24),1),"ddd") -> sáb | AA7: =TEXT(WEEKDAY(DATE(AnoCalendário,6,25),1),"ddd") -> dom | AB7: =TEXT(WEEKDAY(DATE(AnoCalendário,6,26),1),"ddd") -> seg | AC7: =TEXT(WEEKDAY(DATE(AnoCalendário,6,27),1),"ddd") -> ter | AD7: =TEXT(WEEKDAY(DATE(AnoCalendário,6,28),1),"ddd") -> qua | AE7: =TEXT(WEEKDAY(DATE(AnoCalendário,6,29),1),"ddd") -> qui | AF7: =TEXT(WEEKDAY(DATE(AnoCalendário,6,30),1),"ddd") -> sex
B8: Nome do funcionário | C8: 1 | D8: 2 | E8: 3 | F8: 4 | G8: 5 | H8: 6 | I8: 7 | J8: 8 | K8: 9 | L8: 10 | M8: 11 | N8: 12 | O8: 13 | P8: 14 | Q8: 15 | R8: 16 | S8: 17 | T8: 18 | U8: 19 | V8: 20 | W8: 21 | X8: 22 | Y8: 23 | Z8: 24 | AA8: 25 | AB8: 26 | AC8: 27 | AD8: 28 | AE8: 29 | AF8: 30 | AH8: Total de dias
B9: Harsimran Brar | AH9: =COUNTA(Junho[[#This Row],[1]:[ ]]) -> 0
B10: Ricardo Cavalcanti | AH10: =COUNTA(Junho[[#This Row],[1]:[ ]]) -> 0
B11: Asaf Karten | AH11: =COUNTA(Junho[[#This Row],[1]:[ ]]) -> 0
B12: Marina Azevedo | AH12: =COUNTA(Junho[[#This Row],[1]:[ ]]) -> 0
B13: Madison Butler | AH13: =COUNTA(Junho[[#This Row],[1]:[ ]]) -> 0
B14: =NomeMês&" Total" -> Junho Total | C14: =SUBTOTAL(103,Junho[1]) -> 0 | D14: =SUBTOTAL(103,Junho[2]) -> 0 | E14: =SUBTOTAL(103,Junho[3]) -> 0 | F14: =SUBTOTAL(103,Junho[4]) -> 0 | G14: =SUBTOTAL(103,Junho[5]) -> 0 | H14: =SUBTOTAL(103,Junho[6]) -> 0 | I14: =SUBTOTAL(103,Junho[7]) -> 0 | J14: =SUBTOTAL(103,Junho[8]) -> 0 | K14: =SUBTOTAL(103,Junho[9]) -> 0 | L14: =SUBTOTAL(103,Junho[10]) -> 0 | M14: =SUBTOTAL(103,Junho[11]) -> 0 | N14: =SUBTOTAL(103,Junho[12]) -> 0 | O14: =SUBTOTAL(103,Junho[13]) -> 0 | P14: =SUBTOTAL(103,Junho[14]) -> 0 | Q14: =SUBTOTAL(103,Junho[15]) -> 0 | R14: =SUBTOTAL(103,Junho[16]) -> 0 | S14: =SUBTOTAL(103,Junho[17]) -> 0 | T14: =SUBTOTAL(103,Junho[18]) -> 0 | U14: =SUBTOTAL(103,Junho[19]) -> 0 | V14: =SUBTOTAL(103,Junho[20]) -> 0 | W14: =SUBTOTAL(103,Junho[21]) -> 0 | X14: =SUBTOTAL(103,Junho[22]) -> 0 | Y14: =SUBTOTAL(103,Junho[23]) -> 0 | Z14: =SUBTOTAL(103,Junho[24]) -> 0 | AA14: =SUBTOTAL(103,Junho[25]) -> 0 | AB14: =SUBTOTAL(103,Junho[26]) -> 0 | AC14: =SUBTOTAL(103,Junho[27]) -> 0 | AD14: =SUBTOTAL(103,Junho[28]) -> 0 | AE14: =SUBTOTAL(103,Junho[29]) -> 0 | AF14: =SUBTOTAL(109,Junho[30]) -> 0 | AG14: =SUBTOTAL(109,Junho[[ ]]) -> 0 | AH14: =SUBTOTAL(109,Junho[Total de dias]) -> 0

Sheet Julho
B1: Lista de faltas de funcionários
B2: Julho
B4: Chave de tipo de falta | C4: F | D4: Férias | G4: P | H4: Pessoal | K4: L | L4: Licença médica | Q4: Personalizado 1 | V4: Personalizado 2
C6: Datas de falta | AH6: =AnoCalendário -> 2023
C7: =TEXT(WEEKDAY(DATE(AnoCalendário,7,1),1),"ddd") -> sáb | D7: =TEXT(WEEKDAY(DATE(AnoCalendário,7,2),1),"ddd") -> dom | E7: =TEXT(WEEKDAY(DATE(AnoCalendário,7,3),1),"ddd") -> seg | F7: =TEXT(WEEKDAY(DATE(AnoCalendário,7,4),1),"ddd") -> ter | G7: =TEXT(WEEKDAY(DATE(AnoCalendário,7,5),1),"ddd") -> qua | H7: =TEXT(WEEKDAY(DATE(AnoCalendário,7,6),1),"ddd") -> qui | I7: =TEXT(WEEKDAY(DATE(AnoCalendário,7,7),1),"ddd") -> sex | J7: =TEXT(WEEKDAY(DATE(AnoCalendário,7,8),1),"ddd") -> sáb | K7: =TEXT(WEEKDAY(DATE(AnoCalendário,7,9),1),"ddd") -> dom | L7: =TEXT(WEEKDAY(DATE(AnoCalendário,7,10),1),"ddd") -> seg | M7: =TEXT(WEEKDAY(DATE(AnoCalendário,7,11),1),"ddd") -> ter | N7: =TEXT(WEEKDAY(DATE(AnoCalendário,7,12),1),"ddd") -> qua | O7: =TEXT(WEEKDAY(DATE(AnoCalendário,7,13),1),"ddd") -> qui | P7: =TEXT(WEEKDAY(DATE(AnoCalendário,7,14),1),"ddd") -> sex | Q7: =TEXT(WEEKDAY(DATE(AnoCalendário,7,15),1),"ddd") -> sáb | R7: =TEXT(WEEKDAY(DATE(AnoCalendário,7,16),1),"ddd") -> dom | S7: =TEXT(WEEKDAY(DATE(AnoCalendário,7,17),1),"ddd") -> seg | T7: =TEXT(WEEKDAY(DATE(AnoCalendário,7,18),1),"ddd") -> ter | U7: =TEXT(WEEKDAY(DATE(AnoCalendário,7,19),1),"ddd") -> qua | V7: =TEXT(WEEKDAY(DATE(AnoCalendário,7,20),1),"ddd") -> qui | W7: =TEXT(WEEKDAY(DATE(AnoCalendário,7,21),1),"ddd") -> sex | X7: =TEXT(WEEKDAY(DATE(AnoCalendário,7,22),1),"ddd") -> sáb | Y7: =TEXT(WEEKDAY(DATE(AnoCalendário,7,23),1),"ddd") -> dom | Z7: =TEXT(WEEKDAY(DATE(AnoCalendário,7,24),1),"ddd") -> seg | AA7: =TEXT(WEEKDAY(DATE(AnoCalendário,7,25),1),"ddd") -> ter | AB7: =TEXT(WEEKDAY(DATE(AnoCalendário,7,26),1),"ddd") -> qua | AC7: =TEXT(WEEKDAY(DATE(AnoCalendário,7,27),1),"ddd") -> qui | AD7: =TEXT(WEEKDAY(DATE(AnoCalendário,7,28),1),"ddd") -> sex | AE7: =TEXT(WEEKDAY(DATE(AnoCalendário,7,29),1),"ddd") -> sáb | AF7: =TEXT(WEEKDAY(DATE(AnoCalendário,7,30),1),"ddd") -> dom | AG7: =TEXT(WEEKDAY(DATE(AnoCalendário,7,31),1),"ddd") -> seg
B8: Nome do funcionário | C8: 1 | D8: 2 | E8: 3 | F8: 4 | G8: 5 | H8: 6 | I8: 7 | J8: 8 | K8: 9 | L8: 10 | M8: 11 | N8: 12 | O8: 13 | P8: 14 | Q8: 15 | R8: 16 | S8: 17 | T8: 18 | U8: 19 | V8: 20 | W8: 21 | X8: 22 | Y8: 23 | Z8: 24 | AA8: 25 | AB8: 26 | AC8: 27 | AD8: 28 | AE8: 29 | AF8: 30 | AG8: 31 | AH8: Total de dias
B9: Harsimran Brar | AH9: =COUNTA(Julho[[#This Row],[1]:[31]]) -> 0
B10: Ricardo Cavalcanti | AH10: =COUNTA(Julho[[#This Row],[1]:[31]]) -> 0
B11: Asaf Karten | AH11: =COUNTA(Julho[[#This Row],[1]:[31]]) -> 0
B12: Marina Azevedo | AH12: =COUNTA(Julho[[#This Row],[1]:[31]]) -> 0
B13: Madison Butler | AH13: =COUNTA(Julho[[#This Row],[1]:[31]]) -> 0
B14: =NomeMês&" Total" -> Julho Total | C14: =SUBTOTAL(103,Julho[1]) -> 0 | D14: =SUBTOTAL(103,Julho[2]) -> 0 | E14: =SUBTOTAL(103,Julho[3]) -> 0 | F14: =SUBTOTAL(103,Julho[4]) -> 0 | G14: =SUBTOTAL(103,Julho[5]) -> 0 | H14: =SUBTOTAL(103,Julho[6]) -> 0 | I14: =SUBTOTAL(103,Julho[7]) -> 0 | J14: =SUBTOTAL(103,Julho[8]) -> 0 | K14: =SUBTOTAL(103,Julho[9]) -> 0 | L14: =SUBTOTAL(103,Julho[10]) -> 0 | M14: =SUBTOTAL(103,Julho[11]) -> 0 | N14: =SUBTOTAL(103,Julho[12]) -> 0 | O14: =SUBTOTAL(103,Julho[13]) -> 0 | P14: =SUBTOTAL(103,Julho[14]) -> 0 | Q14: =SUBTOTAL(103,Julho[15]) -> 0 | R14: =SUBTOTAL(103,Julho[16]) -> 0 | S14: =SUBTOTAL(103,Julho[17]) -> 0 | T14: =SUBTOTAL(103,Julho[18]) -> 0 | U14: =SUBTOTAL(103,Julho[19]) -> 0 | V14: =SUBTOTAL(103,Julho[20]) -> 0 | W14: =SUBTOTAL(103,Julho[21]) -> 0 | X14: =SUBTOTAL(103,Julho[22]) -> 0 | Y14: =SUBTOTAL(103,Julho[23]) -> 0 | Z14: =SUBTOTAL(103,Julho[24]) -> 0 | AA14: =SUBTOTAL(103,Julho[25]) -> 0 | AB14: =SUBTOTAL(103,Julho[26]) -> 0 | AC14: =SUBTOTAL(103,Julho[27]) -> 0 | AD14: =SUBTOTAL(103,Julho[28]) -> 0 | AE14: =SUBTOTAL(103,Julho[29]) -> 0 | AF14: =SUBTOTAL(109,Julho[30]) -> 0 | AG14: =SUBTOTAL(109,Julho[31]) -> 0 | AH14: =SUBTOTAL(109,Julho[Total de dias]) -> 0

Sheet Agosto
B1: Lista de faltas de funcionários
B2: Agosto
B4: Chave de tipo de falta | C4: F | D4: Férias | G4: P | H4: Pessoal | K4: L | L4: Licença médica | Q4: Personalizado 1 | V4: Personalizado 2
C6: Datas de falta | AH6: =AnoCalendário -> 2023
C7: =TEXT(WEEKDAY(DATE(AnoCalendário,8,1),1),"ddd") -> ter | D7: =TEXT(WEEKDAY(DATE(AnoCalendário,8,2),1),"ddd") -> qua | E7: =TEXT(WEEKDAY(DATE(AnoCalendário,8,3),1),"ddd") -> qui | F7: =TEXT(WEEKDAY(DATE(AnoCalendário,8,4),1),"ddd") -> sex | G7: =TEXT(WEEKDAY(DATE(AnoCalendário,8,5),1),"ddd") -> sáb | H7: =TEXT(WEEKDAY(DATE(AnoCalendário,8,6),1),"ddd") -> dom | I7: =TEXT(WEEKDAY(DATE(AnoCalendário,8,7),1),"ddd") -> seg | J7: =TEXT(WEEKDAY(DATE(AnoCalendário,8,8),1),"ddd") -> ter | K7: =TEXT(WEEKDAY(DATE(AnoCalendário,8,9),1),"ddd") -> qua | L7: =TEXT(WEEKDAY(DATE(AnoCalendário,8,10),1),"ddd") -> qui | M7: =TEXT(WEEKDAY(DATE(AnoCalendário,8,11),1),"ddd") -> sex | N7: =TEXT(WEEKDAY(DATE(AnoCalendário,8,12),1),"ddd") -> sáb | O7: =TEXT(WEEKDAY(DATE(AnoCalendário,8,13),1),"ddd") -> dom | P7: =TEXT(WEEKDAY(DATE(AnoCalendário,8,14),1),"ddd") -> seg | Q7: =TEXT(WEEKDAY(DATE(AnoCalendário,8,15),1),"ddd") -> ter | R7: =TEXT(WEEKDAY(DATE(AnoCalendário,8,16),1),"ddd") -> qua | S7: =TEXT(WEEKDAY(DATE(AnoCalendário,8,17),1),"ddd") -> qui | T7: =TEXT(WEEKDAY(DATE(AnoCalendário,8,18),1),"ddd") -> sex | U7: =TEXT(WEEKDAY(DATE(AnoCalendário,8,19),1),"ddd") -> sáb | V7: =TEXT(WEEKDAY(DATE(AnoCalendário,8,20),1),"ddd") -> dom | W7: =TEXT(WEEKDAY(DATE(AnoCalendário,8,21),1),"ddd") -> seg | X7: =TEXT(WEEKDAY(DATE(AnoCalendário,8,22),1),"ddd") -> ter | Y7: =TEXT(WEEKDAY(DATE(AnoCalendário,8,23),1),"ddd") -> qua | Z7: =TEXT(WEEKDAY(DATE(AnoCalendário,8,24),1),"ddd") -> qui | AA7: =TEXT(WEEKDAY(DATE(AnoCalendário,8,25),1),"ddd") -> sex | AB7: =TEXT(WEEKDAY(DATE(AnoCalendário,8,26),1),"ddd") -> sáb | AC7: =TEXT(WEEKDAY(DATE(AnoCalendário,8,27),1),"ddd") -> dom | AD7: =TEXT(WEEKDAY(DATE(AnoCalendário,8,28),1),"ddd") -> seg | AE7: =TEXT(WEEKDAY(DATE(AnoCalendário,8,29),1),"ddd") -> ter | AF7: =TEXT(WEEKDAY(DATE(AnoCalendário,8,30),1),"ddd") -> qua | AG7: =TEXT(WEEKDAY(DATE(AnoCalendário,8,31),1),"ddd") -> qui
B8: Nome do funcionário | C8: 1 | D8: 2 | E8: 3 | F8: 4 | G8: 5 | H8: 6 | I8: 7 | J8: 8 | K8: 9 | L8: 10 | M8: 11 | N8: 12 | O8: 13 | P8: 14 | Q8: 15 | R8: 16 | S8: 17 | T8: 18 | U8: 19 | V8: 20 | W8: 21 | X8: 22 | Y8: 23 | Z8: 24 | AA8: 25 | AB8: 26 | AC8: 27 | AD8: 28 | AE8: 29 | AF8: 30 | AG8: 31 | AH8: Total de dias
B9: Harsimran Brar | AH9: =COUNTA(Agosto[[#This Row],[1]:[31]]) -> 0
B10: Ricardo Cavalcanti | AH10: =COUNTA(Agosto[[#This Row],[1]:[31]]) -> 0
B11: Asaf Karten | AH11: =COUNTA(Agosto[[#This Row],[1]:[31]]) -> 0
B12: Marina Azevedo | AH12: =COUNTA(Agosto[[#This Row],[1]:[31]]) -> 0
B13: Madison Butler | AH13: =COUNTA(Agosto[[#This Row],[1]:[31]]) -> 0
B14: =NomeMês&" Total" -> Agosto Total | C14: =SUBTOTAL(103,Agosto[1]) -> 0 | D14: =SUBTOTAL(103,Agosto[2]) -> 0 | E14: =SUBTOTAL(103,Agosto[3]) -> 0 | F14: =SUBTOTAL(103,Agosto[4]) -> 0 | G14: =SUBTOTAL(103,Agosto[5]) -> 0 | H14: =SUBTOTAL(103,Agosto[6]) -> 0 | I14: =SUBTOTAL(103,Agosto[7]) -> 0 | J14: =SUBTOTAL(103,Agosto[8]) -> 0 | K14: =SUBTOTAL(103,Agosto[9]) -> 0 | L14: =SUBTOTAL(103,Agosto[10]) -> 0 | M14: =SUBTOTAL(103,Agosto[11]) -> 0 | N14: =SUBTOTAL(103,Agosto[12]) -> 0 | O14: =SUBTOTAL(103,Agosto[13]) -> 0 | P14: =SUBTOTAL(103,Agosto[14]) -> 0 | Q14: =SUBTOTAL(103,Agosto[15]) -> 0 | R14: =SUBTOTAL(103,Agosto[16]) -> 0 | S14: =SUBTOTAL(103,Agosto[17]) -> 0 | T14: =SUBTOTAL(103,Agosto[18]) -> 0 | U14: =SUBTOTAL(103,Agosto[19]) -> 0 | V14: =SUBTOTAL(103,Agosto[20]) -> 0 | W14: =SUBTOTAL(103,Agosto[21]) -> 0 | X14: =SUBTOTAL(103,Agosto[22]) -> 0 | Y14: =SUBTOTAL(103,Agosto[23]) -> 0 | Z14: =SUBTOTAL(103,Agosto[24]) -> 0 | AA14: =SUBTOTAL(103,Agosto[25]) -> 0 | AB14: =SUBTOTAL(103,Agosto[26]) -> 0 | AC14: =SUBTOTAL(103,Agosto[27]) -> 0 | AD14: =SUBTOTAL(103,Agosto[28]) -> 0 | AE14: =SUBTOTAL(103,Agosto[29]) -> 0 | AF14: =SUBTOTAL(109,Agosto[30]) -> 0 | AG14: =SUBTOTAL(109,Agosto[31]) -> 0 | AH14: =SUBTOTAL(109,Agosto[Total de dias]) -> 0

Sheet Setembro
B1: Lista de faltas de funcionários
B2: Setembro
B4: Chave de tipo de falta | C4: F | D4: Férias | G4: P | H4: Pessoal | K4: L | L4: Licença médica | Q4: Personalizado 1 | V4: Personalizado 2
C6: Datas de falta | AH6: =AnoCalendário -> 2023
C7: =TEXT(WEEKDAY(DATE(AnoCalendário,9,1),1),"ddd") -> sex | D7: =TEXT(WEEKDAY(DATE(AnoCalendário,9,2),1),"ddd") -> sáb | E7: =TEXT(WEEKDAY(DATE(AnoCalendário,9,3),1),"ddd") -> dom | F7: =TEXT(WEEKDAY(DATE(AnoCalendário,9,4),1),"ddd") -> seg | G7: =TEXT(WEEKDAY(DATE(AnoCalendário,9,5),1),"ddd") -> ter | H7: =TEXT(WEEKDAY(DATE(AnoCalendário,9,6),1),"ddd") -> qua | I7: =TEXT(WEEKDAY(DATE(AnoCalendário,9,7),1),"ddd") -> qui | J7: =TEXT(WEEKDAY(DATE(AnoCalendário,9,8),1),"ddd") -> sex | K7: =TEXT(WEEKDAY(DATE(AnoCalendário,9,9),1),"ddd") -> sáb | L7: =TEXT(WEEKDAY(DATE(AnoCalendário,9,10),1),"ddd") -> dom | M7: =TEXT(WEEKDAY(DATE(AnoCalendário,9,11),1),"ddd") -> seg | N7: =TEXT(WEEKDAY(DATE(AnoCalendário,9,12),1),"ddd") -> ter | O7: =TEXT(WEEKDAY(DATE(AnoCalendário,9,13),1),"ddd") -> qua | P7: =TEXT(WEEKDAY(DATE(AnoCalendário,9,14),1),"ddd") -> qui | Q7: =TEXT(WEEKDAY(DATE(AnoCalendário,9,15),1),"ddd") -> sex | R7: =TEXT(WEEKDAY(DATE(AnoCalendário,9,16),1),"ddd") -> sáb | S7: =TEXT(WEEKDAY(DATE(AnoCalendário,9,17),1),"ddd") -> dom | T7: =TEXT(WEEKDAY(DATE(AnoCalendário,9,18),1),"ddd") -> seg | U7: =TEXT(WEEKDAY(DATE(AnoCalendário,9,19),1),"ddd") -> ter | V7: =TEXT(WEEKDAY(DATE(AnoCalendário,9,20),1),"ddd") -> qua | W7: =TEXT(WEEKDAY(DATE(AnoCalendário,9,21),1),"ddd") -> qui | X7: =TEXT(WEEKDAY(DATE(AnoCalendário,9,22),1),"ddd") -> sex | Y7: =TEXT(WEEKDAY(DATE(AnoCalendário,9,23),1),"ddd") -> sáb | Z7: =TEXT(WEEKDAY(DATE(AnoCalendário,9,24),1),"ddd") -> dom | AA7: =TEXT(WEEKDAY(DATE(AnoCalendário,9,25),1),"ddd") -> seg | AB7: =TEXT(WEEKDAY(DATE(AnoCalendário,9,26),1),"ddd") -> ter | AC7: =TEXT(WEEKDAY(DATE(AnoCalendário,9,27),1),"ddd") -> qua | AD7: =TEXT(WEEKDAY(DATE(AnoCalendário,9,28),1),"ddd") -> qui | AE7: =TEXT(WEEKDAY(DATE(AnoCalendário,9,29),1),"ddd") -> sex | AF7: =TEXT(WEEKDAY(DATE(AnoCalendário,9,30),1),"ddd") -> sáb
B8: Nome do funcionário | C8: 1 | D8: 2 | E8: 3 | F8: 4 | G8: 5 | H8: 6 | I8: 7 | J8: 8 | K8: 9 | L8: 10 | M8: 11 | N8: 12 | O8: 13 | P8: 14 | Q8: 15 | R8: 16 | S8: 17 | T8: 18 | U8: 19 | V8: 20 | W8: 21 | X8: 22 | Y8: 23 | Z8: 24 | AA8: 25 | AB8: 26 | AC8: 27 | AD8: 28 | AE8: 29 | AF8: 30 | AH8: Total de dias
B9: Harsimran Brar | AH9: =COUNTA(Setembro[[#This Row],[1]:[ ]]) -> 0
B10: Ricardo Cavalcanti | AH10: =COUNTA(Setembro[[#This Row],[1]:[ ]]) -> 0
B11: Asaf Karten | AH11: =COUNTA(Setembro[[#This Row],[1]:[ ]]) -> 0
B12: Marina Azevedo | AH12: =COUNTA(Setembro[[#This Row],[1]:[ ]]) -> 0
B13: Madison Butler | AH13: =COUNTA(Setembro[[#This Row],[1]:[ ]]) -> 0
B14: =NomeMês&" Total" -> Setembro Total | C14: =SUBTOTAL(103,Setembro[1]) -> 0 | D14: =SUBTOTAL(103,Setembro[2]) -> 0 | E14: =SUBTOTAL(103,Setembro[3]) -> 0 | F14: =SUBTOTAL(103,Setembro[4]) -> 0 | G14: =SUBTOTAL(103,Setembro[5]) -> 0 | H14: =SUBTOTAL(103,Setembro[6]) -> 0 | I14: =SUBTOTAL(103,Setembro[7]) -> 0 | J14: =SUBTOTAL(103,Setembro[8]) -> 0 | K14: =SUBTOTAL(103,Setembro[9]) -> 0 | L14: =SUBTOTAL(103,Setembro[10]) -> 0 | M14: =SUBTOTAL(103,Setembro[11]) -> 0 | N14: =SUBTOTAL(103,Setembro[12]) -> 0 | O14: =SUBTOTAL(103,Setembro[13]) -> 0 | P14: =SUBTOTAL(103,Setembro[14]) -> 0 | Q14: =SUBTOTAL(103,Setembro[15]) -> 0 | R14: =SUBTOTAL(103,Setembro[16]) -> 0 | S14: =SUBTOTAL(103,Setembro[17]) -> 0 | T14: =SUBTOTAL(103,Setembro[18]) -> 0 | U14: =SUBTOTAL(103,Setembro[19]) -> 0 | V14: =SUBTOTAL(103,Setembro[20]) -> 0 | W14: =SUBTOTAL(103,Setembro[21]) -> 0 | X14: =SUBTOTAL(103,Setembro[22]) -> 0 | Y14: =SUBTOTAL(103,Setembro[23]) -> 0 | Z14: =SUBTOTAL(103,Setembro[24]) -> 0 | AA14: =SUBTOTAL(103,Setembro[25]) -> 0 | AB14: =SUBTOTAL(103,Setembro[26]) -> 0 | AC14: =SUBTOTAL(103,Setembro[27]) -> 0 | AD14: =SUBTOTAL(103,Setembro[28]) -> 0 | AE14: =SUBTOTAL(103,Setembro[29]) -> 0 | AF14: =SUBTOTAL(109,Setembro[30]) -> 0 | AG14: =SUBTOTAL(109,Setembro[[ ]]) -> 0 | AH14: =SUBTOTAL(109,Setembro[Total de dias]) -> 0

Sheet Outubro
B1: Lista de faltas de funcionários
B2: Outubro
B4: Chave de tipo de falta | C4: F | D4: Férias | G4: P | H4: Pessoal | K4: L | L4: Licença médica | Q4: Personalizado 1 | V4: Personalizado 2
C6: Datas de falta | AH6: =AnoCalendário -> 2023
C7: =TEXT(WEEKDAY(DATE(AnoCalendário,10,1),1),"ddd") -> dom | D7: =TEXT(WEEKDAY(DATE(AnoCalendário,10,2),1),"ddd") -> seg | E7: =TEXT(WEEKDAY(DATE(AnoCalendário,10,3),1),"ddd") -> ter | F7: =TEXT(WEEKDAY(DATE(AnoCalendário,10,4),1),"ddd") -> qua | G7: =TEXT(WEEKDAY(DATE(AnoCalendário,10,5),1),"ddd") -> qui | H7: =TEXT(WEEKDAY(DATE(AnoCalendário,10,6),1),"ddd") -> sex | I7: =TEXT(WEEKDAY(DATE(AnoCalendário,10,7),1),"ddd") -> sáb | J7: =TEXT(WEEKDAY(DATE(AnoCalendário,10,8),1),"ddd") -> dom | K7: =TEXT(WEEKDAY(DATE(AnoCalendário,10,9),1),"ddd") -> seg | L7: =TEXT(WEEKDAY(DATE(AnoCalendário,10,10),1),"ddd") -> ter | M7: =TEXT(WEEKDAY(DATE(AnoCalendário,10,11),1),"ddd") -> qua | N7: =TEXT(WEEKDAY(DATE(AnoCalendário,10,12),1),"ddd") -> qui | O7: =TEXT(WEEKDAY(DATE(AnoCalendário,10,13),1),"ddd") -> sex | P7: =TEXT(WEEKDAY(DATE(AnoCalendário,10,14),1),"ddd") -> sáb | Q7: =TEXT(WEEKDAY(DATE(AnoCalendário,10,15),1),"ddd") -> dom | R7: =TEXT(WEEKDAY(DATE(AnoCalendário,10,16),1),"ddd") -> seg | S7: =TEXT(WEEKDAY(DATE(AnoCalendário,10,17),1),"ddd") -> ter | T7: =TEXT(WEEKDAY(DATE(AnoCalendário,10,18),1),"ddd") -> qua | U7: =TEXT(WEEKDAY(DATE(AnoCalendário,10,19),1),"ddd") -> qui | V7: =TEXT(WEEKDAY(DATE(AnoCalendário,10,20),1),"ddd") -> sex | W7: =TEXT(WEEKDAY(DATE(AnoCalendário,10,21),1),"ddd") -> sáb | X7: =TEXT(WEEKDAY(DATE(AnoCalendário,10,22),1),"ddd") -> dom | Y7: =TEXT(WEEKDAY(DATE(AnoCalendário,10,23),1),"ddd") -> seg | Z7: =TEXT(WEEKDAY(DATE(AnoCalendário,10,24),1),"ddd") -> ter | AA7: =TEXT(WEEKDAY(DATE(AnoCalendário,10,25),1),"ddd") -> qua | AB7: =TEXT(WEEKDAY(DATE(AnoCalendário,10,26),1),"ddd") -> qui | AC7: =TEXT(WEEKDAY(DATE(AnoCalendário,10,27),1),"ddd") -> sex | AD7: =TEXT(WEEKDAY(DATE(AnoCalendário,10,28),1),"ddd") -> sáb | AE7: =TEXT(WEEKDAY(DATE(AnoCalendário,10,29),1),"ddd") -> dom | AF7: =TEXT(WEEKDAY(DATE(AnoCalendário,10,30),1),"ddd") -> seg | AG7: =TEXT(WEEKDAY(DATE(AnoCalendário,10,31),1),"ddd") -> ter
B8: Nome do funcionário | C8: 1 | D8: 2 | E8: 3 | F8: 4 | G8: 5 | H8: 6 | I8: 7 | J8: 8 | K8: 9 | L8: 10 | M8: 11 | N8: 12 | O8: 13 | P8: 14 | Q8: 15 | R8: 16 | S8: 17 | T8: 18 | U8: 19 | V8: 20 | W8: 21 | X8: 22 | Y8: 23 | Z8: 24 | AA8: 25 | AB8: 26 | AC8: 27 | AD8: 28 | AE8: 29 | AF8: 30 | AG8: 31 | AH8: Total de dias
B9: Harsimran Brar | AH9: =COUNTA(Outubro[[#This Row],[1]:[31]]) -> 0
B10: Ricardo Cavalcanti | AH10: =COUNTA(Outubro[[#This Row],[1]:[31]]) -> 0
B11: Asaf Karten | AH11: =COUNTA(Outubro[[#This Row],[1]:[31]]) -> 0
B12: Marina Azevedo | AH12: =COUNTA(Outubro[[#This Row],[1]:[31]]) -> 0
B13: Madison Butler | AH13: =COUNTA(Outubro[[#This Row],[1]:[31]]) -> 0
B14: =NomeMês&" Total" -> Outubro Total | C14: =SUBTOTAL(103,Outubro[1]) -> 0 | D14: =SUBTOTAL(103,Outubro[2]) -> 0 | E14: =SUBTOTAL(103,Outubro[3]) -> 0 | F14: =SUBTOTAL(103,Outubro[4]) -> 0 | G14: =SUBTOTAL(103,Outubro[5]) -> 0 | H14: =SUBTOTAL(103,Outubro[6]) -> 0 | I14: =SUBTOTAL(103,Outubro[7]) -> 0 | J14: =SUBTOTAL(103,Outubro[8]) -> 0 | K14: =SUBTOTAL(103,Outubro[9]) -> 0 | L14: =SUBTOTAL(103,Outubro[10]) -> 0 | M14: =SUBTOTAL(103,Outubro[11]) -> 0 | N14: =SUBTOTAL(103,Outubro[12]) -> 0 | O14: =SUBTOTAL(103,Outubro[13]) -> 0 | P14: =SUBTOTAL(103,Outubro[14]) -> 0 | Q14: =SUBTOTAL(103,Outubro[15]) -> 0 | R14: =SUBTOTAL(103,Outubro[16]) -> 0 | S14: =SUBTOTAL(103,Outubro[17]) -> 0 | T14: =SUBTOTAL(103,Outubro[18]) -> 0 | U14: =SUBTOTAL(103,Outubro[19]) -> 0 | V14: =SUBTOTAL(103,Outubro[20]) -> 0 | W14: =SUBTOTAL(103,Outubro[21]) -> 0 | X14: =SUBTOTAL(103,Outubro[22]) -> 0 | Y14: =SUBTOTAL(103,Outubro[23]) -> 0 | Z14: =SUBTOTAL(103,Outubro[24]) -> 0 | AA14: =SUBTOTAL(103,Outubro[25]) -> 0 | AB14: =SUBTOTAL(103,Outubro[26]) -> 0 | AC14: =SUBTOTAL(103,Outubro[27]) -> 0 | AD14: =SUBTOTAL(103,Outubro[28]) -> 0 | AE14: =SUBTOTAL(103,Outubro[29]) -> 0 | AF14: =SUBTOTAL(109,Outubro[30]) -> 0 | AG14: =SUBTOTAL(109,Outubro[31]) -> 0 | AH14: =SUBTOTAL(109,Outubro[Total de dias]) -> 0

Sheet Novembro
B1: Lista de faltas de funcionários
B2: Novembro
B4: Chave de tipo de falta | C4: F | D4: Férias | G4: P | H4: Pessoal | K4: L | L4: Licença médica | Q4: Personalizado 1 | V4: Personalizado 2
C6: Datas de falta | AH6: =AnoCalendário -> 2023
C7: =TEXT(WEEKDAY(DATE(AnoCalendário,11,1),1),"ddd") -> qua | D7: =TEXT(WEEKDAY(DATE(AnoCalendário,11,2),1),"ddd") -> qui | E7: =TEXT(WEEKDAY(DATE(AnoCalendário,11,3),1),"ddd") -> sex | F7: =TEXT(WEEKDAY(DATE(AnoCalendário,11,4),1),"ddd") -> sáb | G7: =TEXT(WEEKDAY(DATE(AnoCalendário,11,5),1),"ddd") -> dom | H7: =TEXT(WEEKDAY(DATE(AnoCalendário,11,6),1),"ddd") -> seg | I7: =TEXT(WEEKDAY(DATE(AnoCalendário,11,7),1),"ddd") -> ter | J7: =TEXT(WEEKDAY(DATE(AnoCalendário,11,8),1),"ddd") -> qua | K7: =TEXT(WEEKDAY(DATE(AnoCalendário,11,9),1),"ddd") -> qui | L7: =TEXT(WEEKDAY(DATE(AnoCalendário,11,10),1),"ddd") -> sex | M7: =TEXT(WEEKDAY(DATE(AnoCalendário,11,11),1),"ddd") -> sáb | N7: =TEXT(WEEKDAY(DATE(AnoCalendário,11,12),1),"ddd") -> dom | O7: =TEXT(WEEKDAY(DATE(AnoCalendário,11,13),1),"ddd") -> seg | P7: =TEXT(WEEKDAY(DATE(AnoCalendário,11,14),1),"ddd") -> ter | Q7: =TEXT(WEEKDAY(DATE(AnoCalendário,11,15),1),"ddd") -> qua | R7: =TEXT(WEEKDAY(DATE(AnoCalendário,11,16),1),"ddd") -> qui | S7: =TEXT(WEEKDAY(DATE(AnoCalendário,11,17),1),"ddd") -> sex | T7: =TEXT(WEEKDAY(DATE(AnoCalendário,11,18),1),"ddd") -> sáb | U7: =TEXT(WEEKDAY(DATE(AnoCalendário,11,19),1),"ddd") -> dom | V7: =TEXT(WEEKDAY(DATE(AnoCalendário,11,20),1),"ddd") -> seg | W7: =TEXT(WEEKDAY(DATE(AnoCalendário,11,21),1),"ddd") -> ter | X7: =TEXT(WEEKDAY(DATE(AnoCalendário,11,22),1),"ddd") -> qua | Y7: =TEXT(WEEKDAY(DATE(AnoCalendário,11,23),1),"ddd") -> qui | Z7: =TEXT(WEEKDAY(DATE(AnoCalendário,11,24),1),"ddd") -> sex | AA7: =TEXT(WEEKDAY(DATE(AnoCalendário,11,25),1),"ddd") -> sáb | AB7: =TEXT(WEEKDAY(DATE(AnoCalendário,11,26),1),"ddd") -> dom | AC7: =TEXT(WEEKDAY(DATE(AnoCalendário,11,27),1),"ddd") -> seg | AD7: =TEXT(WEEKDAY(DATE(AnoCalendário,11,28),1),"ddd") -> ter | AE7: =TEXT(WEEKDAY(DATE(AnoCalendário,11,29),1),"ddd") -> qua | AF7: =TEXT(WEEKDAY(DATE(AnoCalendário,11,30),1),"ddd") -> qui
B8: Nome do funcionário | C8: 1 | D8: 2 | E8: 3 | F8: 4 | G8: 5 | H8: 6 | I8: 7 | J8: 8 | K8: 9 | L8: 10 | M8: 11 | N8: 12 | O8: 13 | P8: 14 | Q8: 15 | R8: 16 | S8: 17 | T8: 18 | U8: 19 | V8: 20 | W8: 21 | X8: 22 | Y8: 23 | Z8: 24 | AA8: 25 | AB8: 26 | AC8: 27 | AD8: 28 | AE8: 29 | AF8: 30 | AH8: Total de dias
B9: Harsimran Brar | AH9: =COUNTA(Novembro[[#This Row],[1]:[ ]]) -> 0
B10: Ricardo Cavalcanti | AH10: =COUNTA(Novembro[[#This Row],[1]:[ ]]) -> 0
B11: Asaf Karten | AH11: =COUNTA(Novembro[[#This Row],[1]:[ ]]) -> 0
B12: Marina Azevedo | AH12: =COUNTA(Novembro[[#This Row],[1]:[ ]]) -> 0
B13: Madison Butler | AH13: =COUNTA(Novembro[[#This Row],[1]:[ ]]) -> 0
B14: =NomeMês&" Total" -> Novembro Total | C14: =SUBTOTAL(103,Novembro[1]) -> 0 | D14: =SUBTOTAL(103,Novembro[2]) -> 0 | E14: =SUBTOTAL(103,Novembro[3]) -> 0 | F14: =SUBTOTAL(103,Novembro[4]) -> 0 | G14: =SUBTOTAL(103,Novembro[5]) -> 0 | H14: =SUBTOTAL(103,Novembro[6]) -> 0 | I14: =SUBTOTAL(103,Novembro[7]) -> 0 | J14: =SUBTOTAL(103,Novembro[8]) -> 0 | K14: =SUBTOTAL(103,Novembro[9]) -> 0 | L14: =SUBTOTAL(103,Novembro[10]) -> 0 | M14: =SUBTOTAL(103,Novembro[11]) -> 0 | N14: =SUBTOTAL(103,Novembro[12]) -> 0 | O14: =SUBTOTAL(103,Novembro[13]) -> 0 | P14: =SUBTOTAL(103,Novembro[14]) -> 0 | Q14: =SUBTOTAL(103,Novembro[15]) -> 0 | R14: =SUBTOTAL(103,Novembro[16]) -> 0 | S14: =SUBTOTAL(103,Novembro[17]) -> 0 | T14: =SUBTOTAL(103,Novembro[18]) -> 0 | U14: =SUBTOTAL(103,Novembro[19]) -> 0 | V14: =SUBTOTAL(103,Novembro[20]) -> 0 | W14: =SUBTOTAL(103,Novembro[21]) -> 0 | X14: =SUBTOTAL(103,Novembro[22]) -> 0 | Y14: =SUBTOTAL(103,Novembro[23]) -> 0 | Z14: =SUBTOTAL(103,Novembro[24]) -> 0 | AA14: =SUBTOTAL(103,Novembro[25]) -> 0 | AB14: =SUBTOTAL(103,Novembro[26]) -> 0 | AC14: =SUBTOTAL(103,Novembro[27]) -> 0 | AD14: =SUBTOTAL(103,Novembro[28]) -> 0 | AE14: =SUBTOTAL(103,Novembro[29]) -> 0 | AF14: =SUBTOTAL(109,Novembro[30]) -> 0 | AG14: =SUBTOTAL(109,Novembro[[ ]]) -> 0 | AH14: =SUBTOTAL(109,Novembro[Total de dias]) -> 0

Sheet Dezembro
B1: Lista de faltas de funcionários
B2: Dezembro
B4: Chave de tipo de falta | C4: F | D4: Férias | G4: P | H4: Pessoal | K4: L | L4: Licença médica | Q4: Personalizado 1 | V4: Personalizado 2
C6: Datas de falta | AH6: =AnoCalendário -> 2023
C7: =TEXT(WEEKDAY(DATE(AnoCalendário,12,1),1),"ddd") -> sex | D7: =TEXT(WEEKDAY(DATE(AnoCalendário,12,2),1),"ddd") -> sáb | E7: =TEXT(WEEKDAY(DATE(AnoCalendário,12,3),1),"ddd") -> dom | F7: =TEXT(WEEKDAY(DATE(AnoCalendário,12,4),1),"ddd") -> seg | G7: =TEXT(WEEKDAY(DATE(AnoCalendário,12,5),1),"ddd") -> ter | H7: =TEXT(WEEKDAY(DATE(AnoCalendário,12,6),1),"ddd") -> qua | I7: =TEXT(WEEKDAY(DATE(AnoCalendário,12,7),1),"ddd") -> qui | J7: =TEXT(WEEKDAY(DATE(AnoCalendário,12,8),1),"ddd") -> sex | K7: =TEXT(WEEKDAY(DATE(AnoCalendário,12,9),1),"ddd") -> sáb | L7: =TEXT(WEEKDAY(DATE(AnoCalendário,12,10),1),"ddd") -> dom | M7: =TEXT(WEEKDAY(DATE(AnoCalendário,12,11),1),"ddd") -> seg | N7: =TEXT(WEEKDAY(DATE(AnoCalendário,12,12),1),"ddd") -> ter | O7: =TEXT(WEEKDAY(DATE(AnoCalendário,12,13),1),"ddd") -> qua | P7: =TEXT(WEEKDAY(DATE(AnoCalendário,12,14),1),"ddd") -> qui | Q7: =TEXT(WEEKDAY(DATE(AnoCalendário,12,15),1),"ddd") -> sex | R7: =TEXT(WEEKDAY(DATE(AnoCalendário,12,16),1),"ddd") -> sáb | S7: =TEXT(WEEKDAY(DATE(AnoCalendário,12,17),1),"ddd") -> dom | T7: =TEXT(WEEKDAY(DATE(AnoCalendário,12,18),1),"ddd") -> seg | U7: =TEXT(WEEKDAY(DATE(AnoCalendário,12,19),1),"ddd") -> ter | V7: =TEXT(WEEKDAY(DATE(AnoCalendário,12,20),1),"ddd") -> qua | W7: =TEXT(WEEKDAY(DATE(AnoCalendário,12,21),1),"ddd") -> qui | X7: =TEXT(WEEKDAY(DATE(AnoCalendário,12,22),1),"ddd") -> sex | Y7: =TEXT(WEEKDAY(DATE(AnoCalendário,12,23),1),"ddd") -> sáb | Z7: =TEXT(WEEKDAY(DATE(AnoCalendário,12,24),1),"ddd") -> dom | AA7: =TEXT(WEEKDAY(DATE(AnoCalendário,12,25),1),"ddd") -> seg | AB7: =TEXT(WEEKDAY(DATE(AnoCalendário,12,26),1),"ddd") -> ter | AC7: =TEXT(WEEKDAY(DATE(AnoCalendário,12,27),1),"ddd") -> qua | AD7: =TEXT(WEEKDAY(DATE(AnoCalendário,12,28),1),"ddd") -> qui | AE7: =TEXT(WEEKDAY(DATE(AnoCalendário,12,29),1),"ddd") -> sex | AF7: =TEXT(WEEKDAY(DATE(AnoCalendário,12,30),1),"ddd") -> sáb | AG7: =TEXT(WEEKDAY(DATE(AnoCalendário,12,31),1),"ddd") -> dom
B8: Nome do funcionário | C8: 1 | D8: 2 | E8: 3 | F8: 4 | G8: 5 | H8: 6 | I8: 7 | J8: 8 | K8: 9 | L8: 10 | M8: 11 | N8: 12 | O8: 13 | P8: 14 | Q8: 15 | R8: 16 | S8: 17 | T8: 18 | U8: 19 | V8: 20 | W8: 21 | X8: 22 | Y8: 23 | Z8: 24 | AA8: 25 | AB8: 26 | AC8: 27 | AD8: 28 | AE8: 29 | AF8: 30 | AG8: 31 | AH8: Total de dias
B9: Harsimran Brar | AH9: =COUNTA(Dezembro[[#This Row],[1]:[31]]) -> 0
B10: Ricardo Cavalcanti | AH10: =COUNTA(Dezembro[[#This Row],[1]:[31]]) -> 0
B11: Asaf Karten | AH11: =COUNTA(Dezembro[[#This Row],[1]:[31]]) -> 0
B12: Marina Azevedo | AH12: =COUNTA(Dezembro[[#This Row],[1]:[31]]) -> 0
B13: Madison Butler | AH13: =COUNTA(Dezembro[[#This Row],[1]:[31]]) -> 0
B14: =NomeMês&" Total" -> Dezembro Total | C14: =SUBTOTAL(103,Dezembro[1]) -> 0 | D14: =SUBTOTAL(103,Dezembro[2]) -> 0 | E14: =SUBTOTAL(103,Dezembro[3]) -> 0 | F14: =SUBTOTAL(103,Dezembro[4]) -> 0 | G14: =SUBTOTAL(103,Dezembro[5]) -> 0 | H14: =SUBTOTAL(103,Dezembro[6]) -> 0 | I14: =SUBTOTAL(103,Dezembro[7]) -> 0 | J14: =SUBTOTAL(103,Dezembro[8]) -> 0 | K14: =SUBTOTAL(103,Dezembro[9]) -> 0 | L14: =SUBTOTAL(103,Dezembro[10]) -> 0 | M14: =SUBTOTAL(103,Dezembro[11]) -> 0 | N14: =SUBTOTAL(103,Dezembro[12]) -> 0 | O14: =SUBTOTAL(103,Dezembro[13]) -> 0 | P14: =SUBTOTAL(103,Dezembro[14]) -> 0 | Q14: =SUBTOTAL(103,Dezembro[15]) -> 0 | R14: =SUBTOTAL(103,Dezembro[16]) -> 0 | S14: =SUBTOTAL(103,Dezembro[17]) -> 0 | T14: =SUBTOTAL(103,Dezembro[18]) -> 0 | U14: =SUBTOTAL(103,Dezembro[19]) -> 0 | V14: =SUBTOTAL(103,Dezembro[20]) -> 0 | W14: =SUBTOTAL(103,Dezembro[21]) -> 0 | X14: =SUBTOTAL(103,Dezembro[22]) -> 0 | Y14: =SUBTOTAL(103,Dezembro[23]) -> 0 | Z14: =SUBTOTAL(103,Dezembro[24]) -> 0 | AA14: =SUBTOTAL(103,Dezembro[25]) -> 0 | AB14: =SUBTOTAL(103,Dezembro[26]) -> 0 | AC14: =SUBTOTAL(103,Dezembro[27]) -> 0 | AD14: =SUBTOTAL(103,Dezembro[28]) -> 0 | AE14: =SUBTOTAL(103,Dezembro[29]) -> 0 | AF14: =SUBTOTAL(109,Dezembro[30]) -> 0 | AG14: =SUBTOTAL(109,Dezembro[31]) -> 0 | AH14: =SUBTOTAL(109,Dezembro[Total de dias]) -> 0

Sheet Nomes dos funcionários
B1: Nomes dos funcionários
B3: Nomes dos Funcionários
B4: Harsimran Brar
B5: Ricardo Cavalcanti
B6: Asaf Karten
B7: Marina Azevedo
B8: Madison Butler
